BEGIN:VCALENDAR
VERSION:2.0
PRODID:-//Asaduala Travel - ECPv6.8.3//NONSGML v1.0//EN
CALSCALE:GREGORIAN
METHOD:PUBLISH
X-WR-CALNAME:Asaduala Travel
X-ORIGINAL-URL:https://asaduala.com
X-WR-CALDESC:Events for Asaduala Travel
REFRESH-INTERVAL;VALUE=DURATION:PT1H
X-Robots-Tag:noindex
X-PUBLISHED-TTL:PT1H
BEGIN:VTIMEZONE
TZID:Europe/London
BEGIN:DAYLIGHT
TZOFFSETFROM:+0000
TZOFFSETTO:+0100
TZNAME:BST
DTSTART:20240331T010000
END:DAYLIGHT
BEGIN:STANDARD
TZOFFSETFROM:+0100
TZOFFSETTO:+0000
TZNAME:GMT
DTSTART:20241027T010000
END:STANDARD
END:VTIMEZONE
BEGIN:VEVENT
DTSTART;TZID=Europe/London:20241125T080000
DTEND;TZID=Europe/London:20241125T170000
DTSTAMP:20260419T182813
CREATED:20241217T105648Z
LAST-MODIFIED:20260206T054415Z
UID:3739-1732521600-1732554000@asaduala.com
SUMMARY:Srefidensi Dey November 25
DESCRIPTION:Every year on November 25\, is an event that marks Surinamese independence since November 25\, 1975. It is a national holiday in Suriname. Do you want to celebrate Srefidensi Day in Suriname? \n​Please contact us for more information 🙂 \n– info@asaduala.com \n– 020-2117677 \n– www.asaduala.com
URL:https://asaduala.com/event/srefidensi-dey-november-25/
CATEGORIES:Festival Events
END:VEVENT
BEGIN:VEVENT
DTSTART;TZID=Europe/London:20241028T000000
DTEND;TZID=Europe/London:20241028T233000
DTSTAMP:20260419T182813
CREATED:20241217T104909Z
LAST-MODIFIED:20241217T105117Z
UID:3732-1730073600-1730158200@asaduala.com
SUMMARY:Burna Boy October 28 Curacao Festival Center (TICKETS ARE NOW AVAILABLE)
DESCRIPTION:On October 28th\, Burna Boy will perform at the Curaçao Festival Center. \nBook your event tickets + flight tickets with Asaduala Travel. Event tickets are available now. \nContact us for more information 🙂 \n– info@asaduala.com \n– 020-2117677 \n– www.asaduala.com
URL:https://asaduala.com/event/burna-boy-october-28-curacao-festival-center-tickets-are-now-available/
CATEGORIES:Festival Events
ATTACH;FMTTYPE=image/jpeg:https://asaduala.com/wp-content/uploads/2024/12/image00001.jpg
END:VEVENT
END:VCALENDAR